BEGIN:VCALENDAR
VERSION:2.0
PRODID:-//wp-events-plugin.com//7.2.3.1//EN
TZID:Europe/Paris
X-WR-TIMEZONE:Europe/Paris
BEGIN:VEVENT
UID:114173@l-agenda.ch
DTSTART;TZID=Europe/Paris;VALUE=DATE:20250619
DTEND;TZID=Europe/Paris;VALUE=DATE:20250620
DTSTAMP:20250216T213342Z
URL:https://www.l-agenda.ch/evenements/projet-umaa-unite-mobile-daction-ar
 tistique-2025-06-19/
SUMMARY:Projet UMAA – Unité Mobile d'Action Artistique
DESCRIPTION:Formes festives\, contemplatives et participatives dans une str
 ucture gonflable
ATTACH;FMTTYPE=image/jpeg:https://www.l-agenda.ch/wp-content/uploads/2025/
 02/Projet-UMAA-–-Unite-Mobile-dAction-Artistique.webp
CATEGORIES:Danse,Danse contemporaine | Néo-classique,Exposition
 temporaire
LOCATION:Plateforme 10\, Place de la Gare 16\, Lausanne\, VD\, 1003\, Lausa
 nne\, Suisse
GEO:46.51842;6.624533
X-APPLE-STRUCTURED-LOCATION;VALUE=URI;X-ADDRESS=Place de la Gare 16\, Lausa
 nne\, VD\, 1003\, Lausanne\, Suisse;X-APPLE-RADIUS=100;X-TITLE=Plateforme 
 10:geo:46.51842,6.624533
END:VEVENT
BEGIN:VTIMEZONE
TZID:Europe/Paris
X-LIC-LOCATION:Europe/Paris
BEGIN:DAYLIGHT
DTSTART:20250330T030000
TZOFFSETFROM:+0100
TZOFFSETTO:+0200
TZNAME:CEST
END:DAYLIGHT
END:VTIMEZONE
END:VCALENDAR