BEGIN:VCALENDAR
VERSION:2.0
PRODID:-//wp-events-plugin.com//7.2.3.1//EN
TZID:Europe/Paris
X-WR-TIMEZONE:Europe/Paris
BEGIN:VEVENT
UID:116992@l-agenda.ch
DTSTART;TZID=Europe/Paris:20260204T190000
DTEND;TZID=Europe/Paris:20260204T190000
DTSTAMP:20251119T111213Z
URL:https://www.l-agenda.ch/evenements/projection-de-concert-heritage-ray-
 charles/
SUMMARY:Projection de concert Heritage - Miles Davis & Quincy Jones
DESCRIPTION:Projection du concert de Miles Davis & Quincy Jones au Montreux
  Jazz Festival en 1991
ATTACH;FMTTYPE=image/jpeg:https://www.l-agenda.ch/wp-content/uploads/2025/
 09/Miles-Davis-Quincy-Jones.webp
CATEGORIES:Projection | Film,Musique actuelle
LOCATION:Millennium\, Chemin de Mongevon 25\, Lausanne - Crissier\, VD\, 10
 23\, Lausanne\, Suisse
GEO:46.549717;6.569938
X-APPLE-STRUCTURED-LOCATION;VALUE=URI;X-ADDRESS=Chemin de Mongevon 25\, Lau
 sanne - Crissier\, VD\, 1023\, Lausanne\, Suisse;X-APPLE-RADIUS=100;X-TITL
 E=Millennium:geo:46.549717,6.569938
END:VEVENT
BEGIN:VTIMEZONE
TZID:Europe/Paris
X-LIC-LOCATION:Europe/Paris
BEGIN:STANDARD
DTSTART:20251026T020000
TZOFFSETFROM:+0200
TZOFFSETTO:+0100
TZNAME:CET
END:STANDARD
END:VTIMEZONE
END:VCALENDAR