BEGIN:VCALENDAR
VERSION:2.0
PRODID:-//wp-events-plugin.com//7.2.3.1//EN
TZID:Europe/Paris
X-WR-TIMEZONE:Europe/Paris
BEGIN:VEVENT
UID:106003@l-agenda.ch
DTSTART;TZID=Europe/Paris;VALUE=DATE:20260613
DTEND;TZID=Europe/Paris;VALUE=DATE:20260614
DTSTAMP:20260130T125120Z
URL:https://www.l-agenda.ch/evenements/prix-ptits-momes-2024-2/
SUMMARY:Prix P’tits Mômes 2026
DESCRIPTION:Spectacle original créé d'après les 4 albums du Prix P’tit
 s Mômes 2026. Destiné aux 2-4 ans
ATTACH;FMTTYPE=image/jpeg:https://www.l-agenda.ch/wp-content/uploads/2024/
 03/PPM_2024_29.jpg
CATEGORIES:Jeune public,Marionnettes,Théâtre
LOCATION:Bibliothèque de la Cité\, Place des Trois-Perdrix 5\, Genève\, 
 GE\, 1204\, Genève\, Suisse
GEO:46.20276;6.145112
X-APPLE-STRUCTURED-LOCATION;VALUE=URI;X-ADDRESS=Place des Trois-Perdrix 5\,
  Genève\, GE\, 1204\, Genève\, Suisse;X-APPLE-RADIUS=100;X-TITLE=Bibliot
 hèque de la Cité:geo:46.20276,6.145112
END:VEVENT
BEGIN:VTIMEZONE
TZID:Europe/Paris
X-LIC-LOCATION:Europe/Paris
BEGIN:DAYLIGHT
DTSTART:20260329T030000
TZOFFSETFROM:+0100
TZOFFSETTO:+0200
TZNAME:CEST
END:DAYLIGHT
END:VTIMEZONE
END:VCALENDAR