BEGIN:VCALENDAR
VERSION:2.0
PRODID:-//wp-events-plugin.com//7.2.3.1//EN
TZID:Europe/Paris
X-WR-TIMEZONE:Europe/Paris
BEGIN:VEVENT
UID:103708@l-agenda.ch
DTSTART;TZID=Europe/Paris;VALUE=DATE:20240308
DTEND;TZID=Europe/Paris;VALUE=DATE:20240325
DTSTAMP:20240131T153604Z
URL:https://www.l-agenda.ch/evenements/porte-ouverte-porte-fermee/
SUMMARY:Porte ouverte\, porte fermée
DESCRIPTION:Recherche artistique d'interculturalité. Œuvres de Stephanie 
 Loo-Ng\, Ute Bauer et Baird Cornell
ATTACH;FMTTYPE=image/jpeg:https://www.l-agenda.ch/wp-content/uploads/2024/
 01/24_03_Exposition_printemps_flyer.jpg
CATEGORIES:Exposition temporaire
LOCATION:Espace Nouveau Vallon\, Route du Vallon 8\, Chêne-Bougeries\, GE\
 , 1224\, Genève\, Suisse
GEO:46.196687;6.187097
X-APPLE-STRUCTURED-LOCATION;VALUE=URI;X-ADDRESS=Route du Vallon 8\, Chêne-
 Bougeries\, GE\, 1224\, Genève\, Suisse;X-APPLE-RADIUS=100;X-TITLE=Espace
  Nouveau Vallon:geo:46.196687,6.187097
END:VEVENT
BEGIN:VTIMEZONE
TZID:Europe/Paris
X-LIC-LOCATION:Europe/Paris
BEGIN:STANDARD
DTSTART:20231029T020000
TZOFFSETFROM:+0200
TZOFFSETTO:+0100
TZNAME:CET
END:STANDARD
END:VTIMEZONE
END:VCALENDAR