BEGIN:VCALENDAR
VERSION:2.0
PRODID:-//wp-events-plugin.com//7.2.3.1//EN
TZID:Europe/Paris
X-WR-TIMEZONE:Europe/Paris
BEGIN:VEVENT
UID:107754@l-agenda.ch
DTSTART;TZID=Europe/Paris;VALUE=DATE:20240628
DTEND;TZID=Europe/Paris;VALUE=DATE:20240629
DTSTAMP:20240525T130139Z
URL:https://www.l-agenda.ch/evenements/pollen-festival/
SUMMARY:Pollen Festival
DESCRIPTION:Concerts\, arts vivants et visuels
ATTACH;FMTTYPE=image/jpeg:https://www.l-agenda.ch/wp-content/uploads/2024/
 05/Pollen-Festival.jpg
CATEGORIES:Festival
LOCATION:Vieille ville de Sion\, Vieille ville\, Sion\, VS\, 1950\, Sion\, 
 Suisse
GEO:46.23435;7.36044
X-APPLE-STRUCTURED-LOCATION;VALUE=URI;X-ADDRESS=Vieille ville\, Sion\, VS\,
  1950\, Sion\, Suisse;X-APPLE-RADIUS=100;X-TITLE=Vieille ville de Sion:geo
 :46.23435,7.36044
END:VEVENT
BEGIN:VTIMEZONE
TZID:Europe/Paris
X-LIC-LOCATION:Europe/Paris
BEGIN:DAYLIGHT
DTSTART:20240331T030000
TZOFFSETFROM:+0100
TZOFFSETTO:+0200
TZNAME:CEST
END:DAYLIGHT
END:VTIMEZONE
END:VCALENDAR