BEGIN:VCALENDAR
VERSION:2.0
PRODID:-//wp-events-plugin.com//7.2.3.1//EN
TZID:Europe/Paris
X-WR-TIMEZONE:Europe/Paris
BEGIN:VEVENT
UID:120337@l-agenda.ch
DTSTART;TZID=Europe/Paris:20260502T190000
DTEND;TZID=Europe/Paris:20260502T190000
DTSTAMP:20260223T174747Z
URL:https://www.l-agenda.ch/evenements/politiquement-incorrect-2026-04-28-
 2026-04-30-2026-05-02/
SUMMARY:Politiquement incorrect
DESCRIPTION:Série de sketchs\, dialogues et extraits de textes iconiques s
 ous forme de duel
ATTACH;FMTTYPE=image/jpeg:https://www.l-agenda.ch/wp-content/uploads/2026/
 02/POLITIQUEMENT-INCORRECT.jpg
CATEGORIES:Comédie,Improvisation | Humour | Stand-up,Théâtre
LOCATION:Théâtre Le Pantographe\, Avenue Reller 7\, Vevey\, VD\, 1800\, R
 iviera\, Suisse
GEO:46.46571;6.839911
X-APPLE-STRUCTURED-LOCATION;VALUE=URI;X-ADDRESS=Avenue Reller 7\, Vevey\, V
 D\, 1800\, Riviera\, Suisse;X-APPLE-RADIUS=100;X-TITLE=Théâtre Le Pantog
 raphe:geo:46.46571,6.839911
END:VEVENT
BEGIN:VTIMEZONE
TZID:Europe/Paris
X-LIC-LOCATION:Europe/Paris
BEGIN:DAYLIGHT
DTSTART:20260329T030000
TZOFFSETFROM:+0100
TZOFFSETTO:+0200
TZNAME:CEST
END:DAYLIGHT
END:VTIMEZONE
END:VCALENDAR