BEGIN:VCALENDAR
VERSION:2.0
PRODID:-//wp-events-plugin.com//7.2.3.1//EN
TZID:Europe/Paris
X-WR-TIMEZONE:Europe/Paris
BEGIN:VEVENT
UID:116172@l-agenda.ch
DTSTART;TZID=Europe/Paris:20250711T200000
DTEND;TZID=Europe/Paris:20250711T200000
DTSTAMP:20250707T110300Z
URL:https://www.l-agenda.ch/evenements/poligone/
SUMMARY:Poligone
DESCRIPTION:Duo\, chanson indie-pop
ATTACH;FMTTYPE=image/jpeg:https://www.l-agenda.ch/wp-content/uploads/2025/
 07/Poligone.jpg
CATEGORIES:Musique actuelle,Pop | Folk | Chanson
LOCATION:Terrasse des Tilleuls\, Port Arthur Vittel\, Rolle\, VD\, 1180\, N
 yon\, Suisse
GEO:46.461494;6.34459
X-APPLE-STRUCTURED-LOCATION;VALUE=URI;X-ADDRESS=Port Arthur Vittel\, Rolle\
 , VD\, 1180\, Nyon\, Suisse;X-APPLE-RADIUS=100;X-TITLE=Terrasse des Tilleu
 ls:geo:46.461494,6.34459
END:VEVENT
BEGIN:VTIMEZONE
TZID:Europe/Paris
X-LIC-LOCATION:Europe/Paris
BEGIN:DAYLIGHT
DTSTART:20250330T030000
TZOFFSETFROM:+0100
TZOFFSETTO:+0200
TZNAME:CEST
END:DAYLIGHT
END:VTIMEZONE
END:VCALENDAR