BEGIN:VCALENDAR
VERSION:2.0
PRODID:-//wp-events-plugin.com//7.2.3.1//EN
TZID:Europe/Paris
X-WR-TIMEZONE:Europe/Paris
BEGIN:VEVENT
UID:117185@l-agenda.ch
DTSTART;TZID=Europe/Paris:20251111T200000
DTEND;TZID=Europe/Paris:20251111T200000
DTSTAMP:20250905T130512Z
URL:https://www.l-agenda.ch/evenements/poison-ruin-sun-cousto/
SUMMARY:Poison Ruïn / Sun Cousto
DESCRIPTION:Anarcho punk\, post punk\, noise rock
ATTACH;FMTTYPE=image/jpeg:https://www.l-agenda.ch/wp-content/uploads/2025/
 09/Poison-Ruin.jpg
CATEGORIES:Musique actuelle,Rock | Metal | Punk
LOCATION:L'Amalgame\, Avenue des Sports 5\, Yverdon-les-Bains\, VD\, 1400\,
  Jura - Nord vaudois\, Suisse
GEO:46.781902;6.649005
X-APPLE-STRUCTURED-LOCATION;VALUE=URI;X-ADDRESS=Avenue des Sports 5\, Yverd
 on-les-Bains\, VD\, 1400\, Jura - Nord vaudois\, Suisse;X-APPLE-RADIUS=100
 ;X-TITLE=L'Amalgame:geo:46.781902,6.649005
END:VEVENT
BEGIN:VTIMEZONE
TZID:Europe/Paris
X-LIC-LOCATION:Europe/Paris
BEGIN:STANDARD
DTSTART:20251026T020000
TZOFFSETFROM:+0200
TZOFFSETTO:+0100
TZNAME:CET
END:STANDARD
END:VTIMEZONE
END:VCALENDAR