BEGIN:VCALENDAR
VERSION:2.0
PRODID:-//wp-events-plugin.com//7.2.3.1//EN
TZID:Europe/Paris
X-WR-TIMEZONE:Europe/Paris
BEGIN:VEVENT
UID:119979@l-agenda.ch
DTSTART;TZID=Europe/Paris:20260329T170000
DTEND;TZID=Europe/Paris:20260329T170000
DTSTAMP:20260121T205527Z
URL:https://www.l-agenda.ch/evenements/poemes-en-jazz-carte-blanche-a-monc
 ef-genoud-2026-03-29/
SUMMARY:Poèmes en jazz - carte blanche à Moncef Genoud
DESCRIPTION:Soirées musicales avec Moncef Genoud (piano)\, Valentin Conus 
 (sax) et d'autres invité-e-s (distribution en cours)
ATTACH;FMTTYPE=image/jpeg:https://www.l-agenda.ch/wp-content/uploads/2026/
 01/Moncef-Genoud.jpg
CATEGORIES:Jazz | Swing | Blues,Musique actuelle
LOCATION:Les Amis musiquethéâtre\, Place du Temple 8\, Carouge\, GE\, 122
 7\, Genève\, Suisse
GEO:46.185199;6.139927
X-APPLE-STRUCTURED-LOCATION;VALUE=URI;X-ADDRESS=Place du Temple 8\, Carouge
 \, GE\, 1227\, Genève\, Suisse;X-APPLE-RADIUS=100;X-TITLE=Les Amis musiqu
 ethéâtre:geo:46.185199,6.139927
END:VEVENT
BEGIN:VTIMEZONE
TZID:Europe/Paris
X-LIC-LOCATION:Europe/Paris
BEGIN:DAYLIGHT
DTSTART:20260329T030000
TZOFFSETFROM:+0100
TZOFFSETTO:+0200
TZNAME:CEST
END:DAYLIGHT
END:VTIMEZONE
END:VCALENDAR