BEGIN:VCALENDAR
VERSION:2.0
PRODID:-//wp-events-plugin.com//7.2.3.1//EN
TZID:Europe/Paris
X-WR-TIMEZONE:Europe/Paris
BEGIN:VEVENT
UID:120552@l-agenda.ch
DTSTART;TZID=Europe/Paris:20260430T200000
DTEND;TZID=Europe/Paris:20260501T200000
DTSTAMP:20260330T093308Z
URL:https://www.l-agenda.ch/evenements/piaf-et-aznavour-a-organopole/
SUMMARY:Piaf et Aznavour à Organopole
DESCRIPTION:Soirée en hommage à deux grands artistes de la chanson franç
 aise
ATTACH;FMTTYPE=image/jpeg:https://www.l-agenda.ch/wp-content/uploads/2026/
 03/Piaf-et-Aznavour-a-Organopole.avif
CATEGORIES:Classique,Opéra | Lyrique | Voix,Orchestre | Ensemble |
 Instrument | Chambre
LOCATION:Église Saint-François\, Place Saint-François\, Lausanne\, VD\, 
 1003\, Lausanne\, Suisse
GEO:46.519889;6.633594
X-APPLE-STRUCTURED-LOCATION;VALUE=URI;X-ADDRESS=Place Saint-François\, Lau
 sanne\, VD\, 1003\, Lausanne\, Suisse;X-APPLE-RADIUS=100;X-TITLE=Église S
 aint-François:geo:46.519889,6.633594
END:VEVENT
BEGIN:VTIMEZONE
TZID:Europe/Paris
X-LIC-LOCATION:Europe/Paris
BEGIN:DAYLIGHT
DTSTART:20260329T030000
TZOFFSETFROM:+0100
TZOFFSETTO:+0200
TZNAME:CEST
END:DAYLIGHT
END:VTIMEZONE
END:VCALENDAR