BEGIN:VCALENDAR
VERSION:2.0
PRODID:-//wp-events-plugin.com//7.2.3.1//EN
TZID:Europe/Paris
X-WR-TIMEZONE:Europe/Paris
BEGIN:VEVENT
UID:114264@l-agenda.ch
DTSTART;TZID=Europe/Paris:20250514T190000
DTEND;TZID=Europe/Paris:20250514T190000
DTSTAMP:20250224T101558Z
URL:https://www.l-agenda.ch/evenements/paule-et-luce-5/
SUMMARY:Paule et Luce
DESCRIPTION:Sur les liens intergénérationnels\, dès 10 ans
ATTACH;FMTTYPE=image/jpeg:https://www.l-agenda.ch/wp-content/uploads/2023/
 07/Paule-et-Luce.jpg
CATEGORIES:Jeune public,Théâtre
LOCATION:Théâtre du Jura\, Route de Bâle 10 \, Delémont\, JU\, 2800\, D
 elémont\, Suisse
GEO:47.365932;7.346238
X-APPLE-STRUCTURED-LOCATION;VALUE=URI;X-ADDRESS=Route de Bâle 10 \, Delém
 ont\, JU\, 2800\, Delémont\, Suisse;X-APPLE-RADIUS=100;X-TITLE=Théâtre 
 du Jura:geo:47.365932,7.346238
END:VEVENT
BEGIN:VTIMEZONE
TZID:Europe/Paris
X-LIC-LOCATION:Europe/Paris
BEGIN:DAYLIGHT
DTSTART:20250330T030000
TZOFFSETFROM:+0100
TZOFFSETTO:+0200
TZNAME:CEST
END:DAYLIGHT
END:VTIMEZONE
END:VCALENDAR