BEGIN:VCALENDAR
VERSION:2.0
PRODID:-//wp-events-plugin.com//7.2.3.1//EN
TZID:Europe/Paris
X-WR-TIMEZONE:Europe/Paris
BEGIN:VEVENT
UID:116164@l-agenda.ch
DTSTART;TZID=Europe/Paris:20250801T200000
DTEND;TZID=Europe/Paris:20250801T200000
DTSTAMP:20250707T104043Z
URL:https://www.l-agenda.ch/evenements/parker-leftlover-ash-the-ash/
SUMMARY:Parker Leftlover / Ash the Ash
DESCRIPTION:Duo synth-pop / Indie-Rock
ATTACH;FMTTYPE=image/jpeg:https://www.l-agenda.ch/wp-content/uploads/2025/
 07/Ash-the-Ash.jpg
CATEGORIES:Musique actuelle,Pop | Folk | Chanson,Rock | Metal | Punk
LOCATION:La Dérivée\, Quai de Nogent 6\, Yverdon-les-Bains\, VD\, 1400\, 
 Suisse
GEO:46.786597;6.640375
X-APPLE-STRUCTURED-LOCATION;VALUE=URI;X-ADDRESS=Quai de Nogent 6\, Yverdon-
 les-Bains\, VD\, 1400\, Suisse;X-APPLE-RADIUS=100;X-TITLE=La Dérivée:geo
 :46.786597,6.640375
END:VEVENT
BEGIN:VTIMEZONE
TZID:Europe/Paris
X-LIC-LOCATION:Europe/Paris
BEGIN:DAYLIGHT
DTSTART:20250330T030000
TZOFFSETFROM:+0100
TZOFFSETTO:+0200
TZNAME:CEST
END:DAYLIGHT
END:VTIMEZONE
END:VCALENDAR