BEGIN:VCALENDAR
VERSION:2.0
PRODID:-//wp-events-plugin.com//7.2.3.1//EN
TZID:Europe/Paris
X-WR-TIMEZONE:Europe/Paris
BEGIN:VEVENT
UID:119321@l-agenda.ch
DTSTART;TZID=Europe/Paris:20260211T200000
DTEND;TZID=Europe/Paris:20260212T200000
DTSTAMP:20251204T133825Z
URL:https://www.l-agenda.ch/evenements/par-le-boudu/
SUMMARY:Par le Boudu
DESCRIPTION:Solo de clown de et par Bonaventure Gacon
ATTACH;FMTTYPE=image/jpeg:https://www.l-agenda.ch/wp-content/uploads/2025/
 12/Par-le-Boudu.webp
CATEGORIES:Cirque,Théâtre
LOCATION:Casino Théâtre de Rolle\, Rue du Port 15\, Rolle\, VD\, 1180 \, 
 Nyon\, Suisse
GEO:46.455212;6.336826
X-APPLE-STRUCTURED-LOCATION;VALUE=URI;X-ADDRESS=Rue du Port 15\, Rolle\, VD
 \, 1180 \, Nyon\, Suisse;X-APPLE-RADIUS=100;X-TITLE=Casino Théâtre de Ro
 lle:geo:46.455212,6.336826
END:VEVENT
BEGIN:VTIMEZONE
TZID:Europe/Paris
X-LIC-LOCATION:Europe/Paris
BEGIN:STANDARD
DTSTART:20251026T020000
TZOFFSETFROM:+0200
TZOFFSETTO:+0100
TZNAME:CET
END:STANDARD
END:VTIMEZONE
END:VCALENDAR