BEGIN:VCALENDAR
VERSION:2.0
PRODID:-//wp-events-plugin.com//7.2.3.1//EN
TZID:Europe/Paris
X-WR-TIMEZONE:Europe/Paris
BEGIN:VEVENT
UID:100852@l-agenda.ch
DTSTART;TZID=Europe/Paris;VALUE=DATE:20251126
DTEND;TZID=Europe/Paris;VALUE=DATE:20251201
DTSTAMP:20251121T162832Z
URL:https://www.l-agenda.ch/evenements/palestine-filmer-cest-exister-3-202
 3-11-29/
SUMMARY:Palestine: Filmer C’est Exister
DESCRIPTION:Rencontres cinématographiques
ATTACH;FMTTYPE=image/jpeg:https://www.l-agenda.ch/wp-content/uploads/2023/
 09/Filmer-cest-exister.jpg
CATEGORIES:Festival,Projection | Film
LOCATION:Les Cinémas du Grütli\, Rue Général-Dufour 16\, Genève\, GE\,
  1204\, Genève\, Suisse
GEO:46.201122;6.141395
X-APPLE-STRUCTURED-LOCATION;VALUE=URI;X-ADDRESS=Rue Général-Dufour 16\, G
 enève\, GE\, 1204\, Genève\, Suisse;X-APPLE-RADIUS=100;X-TITLE=Les Ciné
 mas du Grütli:geo:46.201122,6.141395
END:VEVENT
BEGIN:VTIMEZONE
TZID:Europe/Paris
X-LIC-LOCATION:Europe/Paris
BEGIN:STANDARD
DTSTART:20251026T020000
TZOFFSETFROM:+0200
TZOFFSETTO:+0100
TZNAME:CET
END:STANDARD
END:VTIMEZONE
END:VCALENDAR