BEGIN:VCALENDAR
VERSION:2.0
PRODID:-//wp-events-plugin.com//7.2.3.1//EN
TZID:Europe/Paris
X-WR-TIMEZONE:Europe/Paris
BEGIN:VEVENT
UID:108717@l-agenda.ch
DTSTART;TZID=Europe/Paris;VALUE=DATE:20240905
DTEND;TZID=Europe/Paris;VALUE=DATE:20241216
DTSTAMP:20240823T085511Z
URL:https://www.l-agenda.ch/evenements/oui-je-le-veux/
SUMMARY:Oui\, je le veux !
DESCRIPTION:Autour de la photographie de mariage
ATTACH;FMTTYPE=image/jpeg:https://www.l-agenda.ch/wp-content/uploads/2024/
 08/Oui-je-le-veux.jpg
CATEGORIES:Exposition temporaire
LOCATION:La Ferme des Tilleuls\, Rue de Lausanne 52\, Renens\, VD\, 1020\, 
 Ouest lausannois\, Suisse
GEO:46.533738;6.589875
X-APPLE-STRUCTURED-LOCATION;VALUE=URI;X-ADDRESS=Rue de Lausanne 52\, Renens
 \, VD\, 1020\, Ouest lausannois\, Suisse;X-APPLE-RADIUS=100;X-TITLE=La Fer
 me des Tilleuls:geo:46.533738,6.589875
END:VEVENT
BEGIN:VTIMEZONE
TZID:Europe/Paris
X-LIC-LOCATION:Europe/Paris
BEGIN:DAYLIGHT
DTSTART:20240331T030000
TZOFFSETFROM:+0100
TZOFFSETTO:+0200
TZNAME:CEST
END:DAYLIGHT
BEGIN:STANDARD
DTSTART:20241027T020000
TZOFFSETFROM:+0200
TZOFFSETTO:+0100
TZNAME:CET
END:STANDARD
END:VTIMEZONE
END:VCALENDAR