BEGIN:VCALENDAR
VERSION:2.0
PRODID:-//wp-events-plugin.com//7.2.3.1//EN
TZID:Europe/Paris
X-WR-TIMEZONE:Europe/Paris
BEGIN:VEVENT
UID:116390@l-agenda.ch
DTSTART;TZID=Europe/Paris:20260324T190000
DTEND;TZID=Europe/Paris:20260324T190000
DTSTAMP:20250814T102702Z
URL:https://www.l-agenda.ch/evenements/orlando-2026-03-24/
SUMMARY:Orlando
DESCRIPTION:Dramma per musica baroque\, en italien\, musique de Hændel 
ATTACH;FMTTYPE=image/jpeg:https://www.l-agenda.ch/wp-content/uploads/2025/
 08/7_Orlando.jpg
CATEGORIES:Classique,Opéra | Lyrique | Voix,Orchestre | Ensemble |
 Instrument | Chambre
LOCATION:Opéra de Lausanne\, Avenue du Théâtre 12\, Lausanne\, VD\, 1002
 \, Lausanne\, Suisse
GEO:46.517843;6.636775
X-APPLE-STRUCTURED-LOCATION;VALUE=URI;X-ADDRESS=Avenue du Théâtre 12\, La
 usanne\, VD\, 1002\, Lausanne\, Suisse;X-APPLE-RADIUS=100;X-TITLE=Opéra d
 e Lausanne:geo:46.517843,6.636775
END:VEVENT
BEGIN:VTIMEZONE
TZID:Europe/Paris
X-LIC-LOCATION:Europe/Paris
BEGIN:STANDARD
DTSTART:20251026T020000
TZOFFSETFROM:+0200
TZOFFSETTO:+0100
TZNAME:CET
END:STANDARD
END:VTIMEZONE
END:VCALENDAR