BEGIN:VCALENDAR
VERSION:2.0
PRODID:-//wp-events-plugin.com//7.2.3.1//EN
TZID:Europe/Paris
X-WR-TIMEZONE:Europe/Paris
BEGIN:VEVENT
UID:111573@l-agenda.ch
DTSTART;TZID=Europe/Paris:20241206T203000
DTEND;TZID=Europe/Paris:20241208T203000
DTSTAMP:20241119T115605Z
URL:https://www.l-agenda.ch/event-recurring/orchestre-de-ribaupierre/
SUMMARY:Orchestre de Ribaupierre
DESCRIPTION:Oeuvres de Tchaïkovski et Maxime Goulet
CATEGORIES:Classique,Orchestre | Ensemble | Instrument | Chambre
LOCATION:Casino de Montbenon\, Allée Ernest-Ansermet 3\, Lausanne\, VD\, 1
 003\, Lausanne\, Suisse
GEO:46.52046;6.62486
X-APPLE-STRUCTURED-LOCATION;VALUE=URI;X-ADDRESS=Allée Ernest-Ansermet 3\, 
 Lausanne\, VD\, 1003\, Lausanne\, Suisse;X-APPLE-RADIUS=100;X-TITLE=Casino
  de Montbenon:geo:46.52046,6.62486
END:VEVENT
BEGIN:VTIMEZONE
TZID:Europe/Paris
X-LIC-LOCATION:Europe/Paris
BEGIN:STANDARD
DTSTART:20241027T020000
TZOFFSETFROM:+0200
TZOFFSETTO:+0100
TZNAME:CET
END:STANDARD
END:VTIMEZONE
END:VCALENDAR