BEGIN:VCALENDAR
VERSION:2.0
PRODID:-//wp-events-plugin.com//7.2.3.1//EN
TZID:Europe/Paris
X-WR-TIMEZONE:Europe/Paris
BEGIN:VEVENT
UID:107750@l-agenda.ch
DTSTART;TZID=Europe/Paris:20260530T180000
DTEND;TZID=Europe/Paris:20260530T180000
DTSTAMP:20260115T160640Z
URL:https://www.l-agenda.ch/evenements/orchestre-de-lancy/
SUMMARY:Le Conte d'été ou le Dragon à sept têtes
DESCRIPTION:Création de l'Orchestre de Lancy-Genève
ATTACH;FMTTYPE=image/jpeg:https://www.l-agenda.ch/wp-content/uploads/2024/
 05/Le-dragon-a-sept-tetes.jpg
CATEGORIES:Classique,Orchestre | Ensemble | Instrument |
 Chambre,Symphonique | Musique de film | Ciné-concert
LOCATION:Salle J.-J. Gautier\, Route du Vallon 1\, Chêne-Bougeries\, GE\, 
 1224\, Genève\, Suisse
GEO:46.196136;6.18742
X-APPLE-STRUCTURED-LOCATION;VALUE=URI;X-ADDRESS=Route du Vallon 1\, Chêne-
 Bougeries\, GE\, 1224\, Genève\, Suisse;X-APPLE-RADIUS=100;X-TITLE=Salle 
 J.-J. Gautier:geo:46.196136,6.18742
END:VEVENT
BEGIN:VTIMEZONE
TZID:Europe/Paris
X-LIC-LOCATION:Europe/Paris
BEGIN:DAYLIGHT
DTSTART:20260329T030000
TZOFFSETFROM:+0100
TZOFFSETTO:+0200
TZNAME:CEST
END:DAYLIGHT
END:VTIMEZONE
END:VCALENDAR