BEGIN:VCALENDAR
VERSION:2.0
PRODID:-//wp-events-plugin.com//7.2.3.1//EN
TZID:Europe/Paris
X-WR-TIMEZONE:Europe/Paris
BEGIN:VEVENT
UID:115007@l-agenda.ch
DTSTART;TZID=Europe/Paris:20250523T200000
DTEND;TZID=Europe/Paris:20250523T200000
DTSTAMP:20250325T081057Z
URL:https://www.l-agenda.ch/evenements/olga-2025-05-23/
SUMMARY:OLGA
DESCRIPTION:Performance pour 4 voix augmentées
ATTACH;FMTTYPE=image/jpeg:https://www.l-agenda.ch/wp-content/uploads/2025/
 03/Olga.jpg
CATEGORIES:Musique actuelle,Musique contemporaine,Opéra | Lyrique |
 Voix,Orchestre | Ensemble | Instrument | Chambre
LOCATION:Cinéma Bellevaux\, Route Aloys-Fauquez 4\, Lausanne\, VD\, 1018\,
  Lausanne\, Suisse
GEO:46.532884;6.630783
X-APPLE-STRUCTURED-LOCATION;VALUE=URI;X-ADDRESS=Route Aloys-Fauquez 4\, Lau
 sanne\, VD\, 1018\, Lausanne\, Suisse;X-APPLE-RADIUS=100;X-TITLE=Cinéma B
 ellevaux:geo:46.532884,6.630783
END:VEVENT
BEGIN:VTIMEZONE
TZID:Europe/Paris
X-LIC-LOCATION:Europe/Paris
BEGIN:DAYLIGHT
DTSTART:20250330T030000
TZOFFSETFROM:+0100
TZOFFSETTO:+0200
TZNAME:CEST
END:DAYLIGHT
END:VTIMEZONE
END:VCALENDAR