BEGIN:VCALENDAR
VERSION:2.0
PRODID:-//wp-events-plugin.com//7.2.3.1//EN
TZID:Europe/Paris
X-WR-TIMEZONE:Europe/Paris
BEGIN:VEVENT
UID:115935@l-agenda.ch
DTSTART;TZID=Europe/Paris:20251016T193000
DTEND;TZID=Europe/Paris:20251016T193000
DTSTAMP:20250626T180517Z
URL:https://www.l-agenda.ch/evenements/ocg-et-les-eleves-de-linstitut-flor
 imont/
SUMMARY:OCG et les élèves de l'Institut Florimont
DESCRIPTION:Histoire narrée sur la musique de Debussy et Rameau
ATTACH;FMTTYPE=image/jpeg:https://www.l-agenda.ch/wp-content/uploads/2025/
 06/Lair-du-large.jpg
CATEGORIES:Classique,Comédie musicale | Spectacle musical,Jeune
 public,Orchestre | Ensemble | Instrument | Chambre
LOCATION:Institut Florimont\, Av. du Petit-Lancy 37\, Petit-Lancy\, GE\, 12
 13\, Genève\, Suisse
GEO:46.194243;6.115152
X-APPLE-STRUCTURED-LOCATION;VALUE=URI;X-ADDRESS=Av. du Petit-Lancy 37\, Pet
 it-Lancy\, GE\, 1213\, Genève\, Suisse;X-APPLE-RADIUS=100;X-TITLE=Institu
 t Florimont:geo:46.194243,6.115152
END:VEVENT
BEGIN:VTIMEZONE
TZID:Europe/Paris
X-LIC-LOCATION:Europe/Paris
BEGIN:DAYLIGHT
DTSTART:20250330T030000
TZOFFSETFROM:+0100
TZOFFSETTO:+0200
TZNAME:CEST
END:DAYLIGHT
END:VTIMEZONE
END:VCALENDAR