BEGIN:VCALENDAR
VERSION:2.0
PRODID:-//wp-events-plugin.com//7.2.3.1//EN
TZID:Europe/Paris
X-WR-TIMEZONE:Europe/Paris
BEGIN:VEVENT
UID:115149@l-agenda.ch
DTSTART;TZID=Europe/Paris:20250504T170000
DTEND;TZID=Europe/Paris:20250504T170000
DTSTAMP:20250407T123937Z
URL:https://www.l-agenda.ch/evenements/nonna-6/
SUMMARY:Nonna
DESCRIPTION:Épopée familiale\, musique électronique en live 
ATTACH;FMTTYPE=image/jpeg:https://www.l-agenda.ch/wp-content/uploads/2025/
 02/NONNA.jpg
CATEGORIES:Documentaire | Documenté | Autofiction,Théâtre
LOCATION:Nebia\, Rue Thomas-Wyttenbach 4\, Bienne\, BE\, 2502\, Bienne\, Su
 isse
GEO:47.133672;7.244891
X-APPLE-STRUCTURED-LOCATION;VALUE=URI;X-ADDRESS=Rue Thomas-Wyttenbach 4\, B
 ienne\, BE\, 2502\, Bienne\, Suisse;X-APPLE-RADIUS=100;X-TITLE=Nebia:geo:4
 7.133672,7.244891
END:VEVENT
BEGIN:VTIMEZONE
TZID:Europe/Paris
X-LIC-LOCATION:Europe/Paris
BEGIN:DAYLIGHT
DTSTART:20250330T030000
TZOFFSETFROM:+0100
TZOFFSETTO:+0200
TZNAME:CEST
END:DAYLIGHT
END:VTIMEZONE
END:VCALENDAR