BEGIN:VCALENDAR
VERSION:2.0
PRODID:-//wp-events-plugin.com//7.2.3.1//EN
TZID:Europe/Paris
X-WR-TIMEZONE:Europe/Paris
BEGIN:VEVENT
UID:119311@l-agenda.ch
DTSTART;TZID=Europe/Paris:20260127T200000
DTEND;TZID=Europe/Paris:20260128T200000
DTSTAMP:20251204T131019Z
URL:https://www.l-agenda.ch/evenements/music-hall-colette-2/
SUMMARY:Music-hall Colette
DESCRIPTION:Seule en scène librement inspiré de le vie de Colette\, journ
 aliste\, comédienne de music hall\, autrice\, figure moderne de son temps
ATTACH;FMTTYPE=image/jpeg:https://www.l-agenda.ch/wp-content/uploads/2025/
 01/webVisuel-Colette-definitif-©Julien-Piffaut-1280x813.80191693291-c-cen
 ter.webp
CATEGORIES:Comédie musicale | Spectacle musical,Théâtre
LOCATION:Casino Théâtre de Rolle\, Rue du Port 15\, Rolle\, VD\, 1180 \, 
 Nyon\, Suisse
GEO:46.455212;6.336826
X-APPLE-STRUCTURED-LOCATION;VALUE=URI;X-ADDRESS=Rue du Port 15\, Rolle\, VD
 \, 1180 \, Nyon\, Suisse;X-APPLE-RADIUS=100;X-TITLE=Casino Théâtre de Ro
 lle:geo:46.455212,6.336826
END:VEVENT
BEGIN:VTIMEZONE
TZID:Europe/Paris
X-LIC-LOCATION:Europe/Paris
BEGIN:STANDARD
DTSTART:20251026T020000
TZOFFSETFROM:+0200
TZOFFSETTO:+0100
TZNAME:CET
END:STANDARD
END:VTIMEZONE
END:VCALENDAR