BEGIN:VCALENDAR
VERSION:2.0
PRODID:-//wp-events-plugin.com//7.2.3.1//EN
TZID:Europe/Paris
X-WR-TIMEZONE:Europe/Paris
BEGIN:VEVENT
UID:120559@l-agenda.ch
DTSTART;TZID=Europe/Paris:20260408T200000
DTEND;TZID=Europe/Paris:20260408T200000
DTSTAMP:20260330T132938Z
URL:https://www.l-agenda.ch/evenements/mottel-18-link/
SUMMARY:MOTTEL #18 - Link
DESCRIPTION:Par le Collectif  Puzzle\, ensemble à géométrie variable
ATTACH;FMTTYPE=image/jpeg:https://www.l-agenda.ch/wp-content/uploads/2026/
 03/Collectif-Puzzle.jpg
CATEGORIES:Musique contemporaine
LOCATION:Espace Amaretto\, Rue de Genève 97 B\, Lausanne\, VD\, 1004\, Lau
 sanne\, Suisse
GEO:46.524886;6.612091
X-APPLE-STRUCTURED-LOCATION;VALUE=URI;X-ADDRESS=Rue de Genève 97 B\, Lausa
 nne\, VD\, 1004\, Lausanne\, Suisse;X-APPLE-RADIUS=100;X-TITLE=Espace Amar
 etto:geo:46.524886,6.612091
END:VEVENT
BEGIN:VTIMEZONE
TZID:Europe/Paris
X-LIC-LOCATION:Europe/Paris
BEGIN:DAYLIGHT
DTSTART:20260329T030000
TZOFFSETFROM:+0100
TZOFFSETTO:+0200
TZNAME:CEST
END:DAYLIGHT
END:VTIMEZONE
END:VCALENDAR