BEGIN:VCALENDAR
VERSION:2.0
PRODID:-//wp-events-plugin.com//7.2.3.1//EN
TZID:Europe/Paris
X-WR-TIMEZONE:Europe/Paris
BEGIN:VEVENT
UID:115138@l-agenda.ch
DTSTART;TZID=Europe/Paris:20250513T190000
DTEND;TZID=Europe/Paris:20250513T190000
DTSTAMP:20250331T093850Z
URL:https://www.l-agenda.ch/evenements/morges-sous-rire-tournee-de-la-scen
 e-ouverte-2/
SUMMARY:Morges-sous-Rire - tournée de la Scène Ouverte
DESCRIPTION:Avec Adrien Laplana\, Marie-Anne\, Barnabé\, Fiona et Rashido
ATTACH;FMTTYPE=image/jpeg:https://www.l-agenda.ch/wp-content/uploads/2025/
 02/Scene-ouverte.jpg
CATEGORIES:Improvisation | Humour | Stand-up,Théâtre
LOCATION:Caustic Comedy Club\, Avenue Cardinal Mermillod 6\, Carouge\, GE\,
  1227\, Genève\, Suisse
GEO:46.186899;6.141979
X-APPLE-STRUCTURED-LOCATION;VALUE=URI;X-ADDRESS=Avenue Cardinal Mermillod 6
 \, Carouge\, GE\, 1227\, Genève\, Suisse;X-APPLE-RADIUS=100;X-TITLE=Caust
 ic Comedy Club:geo:46.186899,6.141979
END:VEVENT
BEGIN:VTIMEZONE
TZID:Europe/Paris
X-LIC-LOCATION:Europe/Paris
BEGIN:DAYLIGHT
DTSTART:20250330T030000
TZOFFSETFROM:+0100
TZOFFSETTO:+0200
TZNAME:CEST
END:DAYLIGHT
END:VTIMEZONE
END:VCALENDAR