BEGIN:VCALENDAR
VERSION:2.0
PRODID:-//wp-events-plugin.com//7.2.3.1//EN
TZID:Europe/Paris
X-WR-TIMEZONE:Europe/Paris
BEGIN:VEVENT
UID:118552@l-agenda.ch
DTSTART;TZID=Europe/Paris:20251116T143000
DTEND;TZID=Europe/Paris:20251116T143000
DTSTAMP:20251103T093351Z
URL:https://www.l-agenda.ch/evenements/montreux-comedy-festival-je-taime-m
 oi-non-plus-2025-11-16/
SUMMARY:Montreux Comedy Festival - Je t'aime (moi non plus)
DESCRIPTION:Gala sur le thème de l'amour\, présenté par Jérémy Nadeau 
ATTACH;FMTTYPE=image/jpeg:https://www.l-agenda.ch/wp-content/uploads/2025/
 11/JE-TAIME-MOI-NON-PLUS.jpg
CATEGORIES:Festival,Improvisation | Humour | Stand-up,Théâtre
LOCATION:Théâtre de Beaulieu\, Avenue des Bergières 10\, Lausanne\, VD\,
  1004\, Lausanne\, Suisse
GEO:46.529435;6.623158
X-APPLE-STRUCTURED-LOCATION;VALUE=URI;X-ADDRESS=Avenue des Bergières 10\, 
 Lausanne\, VD\, 1004\, Lausanne\, Suisse;X-APPLE-RADIUS=100;X-TITLE=Théâ
 tre de Beaulieu:geo:46.529435,6.623158
END:VEVENT
BEGIN:VTIMEZONE
TZID:Europe/Paris
X-LIC-LOCATION:Europe/Paris
BEGIN:STANDARD
DTSTART:20251026T020000
TZOFFSETFROM:+0200
TZOFFSETTO:+0100
TZNAME:CET
END:STANDARD
END:VTIMEZONE
END:VCALENDAR