BEGIN:VCALENDAR
VERSION:2.0
PRODID:-//wp-events-plugin.com//7.2.3.1//EN
TZID:Europe/Paris
X-WR-TIMEZONE:Europe/Paris
BEGIN:VEVENT
UID:117189@l-agenda.ch
DTSTART;TZID=Europe/Paris:20260203T200000
DTEND;TZID=Europe/Paris:20260203T200000
DTSTAMP:20250905T141412Z
URL:https://www.l-agenda.ch/evenements/mon-jour-de-chance-2/
SUMMARY:Mon jour de chance
DESCRIPTION:Comédie de Patrick Haudecœur et Gérald Sibleyras
ATTACH;FMTTYPE=image/jpeg:https://www.l-agenda.ch/wp-content/uploads/2025/
 09/Mon-jour-de-chance.jpg
CATEGORIES:Théâtre,Comédie
LOCATION:Saison Culturelle CO2\, Route de la Ronclina 4\, La Tour-de-Trême
 \, FR\, 1635\, Gruyère\, Suisse
GEO:46.60611;7.05944
X-APPLE-STRUCTURED-LOCATION;VALUE=URI;X-ADDRESS=Route de la Ronclina 4\, La
  Tour-de-Trême\, FR\, 1635\, Gruyère\, Suisse;X-APPLE-RADIUS=100;X-TITLE
 =Saison Culturelle CO2:geo:46.60611,7.05944
END:VEVENT
BEGIN:VTIMEZONE
TZID:Europe/Paris
X-LIC-LOCATION:Europe/Paris
BEGIN:STANDARD
DTSTART:20251026T020000
TZOFFSETFROM:+0200
TZOFFSETTO:+0100
TZNAME:CET
END:STANDARD
END:VTIMEZONE
END:VCALENDAR