BEGIN:VCALENDAR
VERSION:2.0
PRODID:-//wp-events-plugin.com//7.2.3.1//EN
TZID:Europe/Paris
X-WR-TIMEZONE:Europe/Paris
BEGIN:VEVENT
UID:120135@l-agenda.ch
DTSTART;TZID=Europe/Paris;VALUE=DATE:20261204
DTEND;TZID=Europe/Paris;VALUE=DATE:20270405
DTSTAMP:20260214T180456Z
URL:https://www.l-agenda.ch/evenements/modele-animal/
SUMMARY:Modèle animal -200 ans de photographie
DESCRIPTION:Comment les images d'animaux entre le 19e au 21e siècle ont i
 nfluencé notre regard sur les animaux et notre manière de les aimer\, de
  les exploiter ou de les défendre.
ATTACH;FMTTYPE=image/jpeg:https://www.l-agenda.ch/wp-content/uploads/2026/
 02/©-Photo-Elysee-Lausanne-Fonds-Marcel-Imsand.jpg
CATEGORIES:Exposition temporaire
LOCATION:Plateforme 10 - Photo Élysée\, Avenue de la Gare 17\, Lausanne\,
  VD\, 1003\, Lausanne\, Suisse
GEO:46.516531;6.636603
X-APPLE-STRUCTURED-LOCATION;VALUE=URI;X-ADDRESS=Avenue de la Gare 17\, Laus
 anne\, VD\, 1003\, Lausanne\, Suisse;X-APPLE-RADIUS=100;X-TITLE=Plateforme
  10 - Photo Élysée:geo:46.516531,6.636603
END:VEVENT
BEGIN:VTIMEZONE
TZID:Europe/Paris
X-LIC-LOCATION:Europe/Paris
BEGIN:STANDARD
DTSTART:20261025T020000
TZOFFSETFROM:+0200
TZOFFSETTO:+0100
TZNAME:CET
END:STANDARD
BEGIN:DAYLIGHT
DTSTART:20270328T030000
TZOFFSETFROM:+0100
TZOFFSETTO:+0200
TZNAME:CEST
END:DAYLIGHT
END:VTIMEZONE
END:VCALENDAR