BEGIN:VCALENDAR
VERSION:2.0
PRODID:-//wp-events-plugin.com//7.2.3.1//EN
TZID:Europe/Paris
X-WR-TIMEZONE:Europe/Paris
BEGIN:VEVENT
UID:116994@l-agenda.ch
DTSTART;TZID=Europe/Paris:20261208T200000
DTEND;TZID=Europe/Paris:20261208T200000
DTSTAMP:20260409T093510Z
URL:https://www.l-agenda.ch/evenements/merci-johnny/
SUMMARY:Merci Johnny
DESCRIPTION:Show en  hommage à la légende du rock français Johnny Hally
 day
ATTACH;FMTTYPE=image/jpeg:https://www.l-agenda.ch/wp-content/uploads/2025/
 09/Merci-Johnny.webp
CATEGORIES:Musique actuelle,Pop | Folk | Chanson,Rock | Metal | Punk
LOCATION:Millennium\, Chemin de Mongevon 25\, Lausanne - Crissier\, VD\, 10
 23\, Lausanne\, Suisse
GEO:46.549717;6.569938
X-APPLE-STRUCTURED-LOCATION;VALUE=URI;X-ADDRESS=Chemin de Mongevon 25\, Lau
 sanne - Crissier\, VD\, 1023\, Lausanne\, Suisse;X-APPLE-RADIUS=100;X-TITL
 E=Millennium:geo:46.549717,6.569938
END:VEVENT
BEGIN:VTIMEZONE
TZID:Europe/Paris
X-LIC-LOCATION:Europe/Paris
BEGIN:STANDARD
DTSTART:20261025T020000
TZOFFSETFROM:+0200
TZOFFSETTO:+0100
TZNAME:CET
END:STANDARD
END:VTIMEZONE
END:VCALENDAR