BEGIN:VCALENDAR
VERSION:2.0
PRODID:-//wp-events-plugin.com//7.2.3.1//EN
TZID:Europe/Paris
X-WR-TIMEZONE:Europe/Paris
BEGIN:VEVENT
UID:105360@l-agenda.ch
DTSTART;TZID=Europe/Paris:20260328T200000
DTEND;TZID=Europe/Paris:20260328T200000
DTSTAMP:20260304T130318Z
URL:https://www.l-agenda.ch/evenements/melies-orgue/
SUMMARY:L’orgue fait son cinéma – Méliès le magicien
DESCRIPTION:Concert et courts-métrages de Georges Méliès
ATTACH;FMTTYPE=image/jpeg:https://www.l-agenda.ch/wp-content/uploads/2025/
 03/Lorgue-fait-son-cinema.jpeg
CATEGORIES:Classique,Festival,Orchestre | Ensemble | Instrument |
 Chambre,Projection | Film
LOCATION:Aula du Collège Claparède\, Chemin de Fossd 61\, Conches\, GE\, 
 1231\, Genève\, Suisse
GEO:46.17751;6.174974
X-APPLE-STRUCTURED-LOCATION;VALUE=URI;X-ADDRESS=Chemin de Fossd 61\, Conche
 s\, GE\, 1231\, Genève\, Suisse;X-APPLE-RADIUS=100;X-TITLE=Aula du Collè
 ge Claparède:geo:46.17751,6.174974
END:VEVENT
BEGIN:VTIMEZONE
TZID:Europe/Paris
X-LIC-LOCATION:Europe/Paris
BEGIN:STANDARD
DTSTART:20251026T020000
TZOFFSETFROM:+0200
TZOFFSETTO:+0100
TZNAME:CET
END:STANDARD
END:VTIMEZONE
END:VCALENDAR