BEGIN:VCALENDAR
VERSION:2.0
PRODID:-//wp-events-plugin.com//7.2.3.1//EN
TZID:Europe/Paris
X-WR-TIMEZONE:Europe/Paris
BEGIN:VEVENT
UID:105834@l-agenda.ch
DTSTART;TZID=Europe/Paris:20240412T210000
DTEND;TZID=Europe/Paris:20240412T210000
DTSTAMP:20240313T165339Z
URL:https://www.l-agenda.ch/evenements/mega-mass/
SUMMARY:Mega Mass
DESCRIPTION:Jazz moderne
ATTACH;FMTTYPE=image/jpeg:https://www.l-agenda.ch/wp-content/uploads/2024/
 03/megamassbyquentincholet-gvrvbs.jpg
CATEGORIES:Jazz | Swing | Blues,Musique actuelle
LOCATION:Centre des Musiques Actuelles - One More Time\, Passage Marie-Clau
 de Leburgue 2\, Genève\, GE\, 1205\, Genève\, Suisse
GEO:46.190274;6.146484
X-APPLE-STRUCTURED-LOCATION;VALUE=URI;X-ADDRESS=Passage Marie-Claude Leburg
 ue 2\, Genève\, GE\, 1205\, Genève\, Suisse;X-APPLE-RADIUS=100;X-TITLE=C
 entre des Musiques Actuelles - One More Time:geo:46.190274,6.146484
END:VEVENT
BEGIN:VTIMEZONE
TZID:Europe/Paris
X-LIC-LOCATION:Europe/Paris
BEGIN:DAYLIGHT
DTSTART:20240331T030000
TZOFFSETFROM:+0100
TZOFFSETTO:+0200
TZNAME:CEST
END:DAYLIGHT
END:VTIMEZONE
END:VCALENDAR