BEGIN:VCALENDAR
VERSION:2.0
PRODID:-//wp-events-plugin.com//7.2.3.1//EN
TZID:Europe/Paris
X-WR-TIMEZONE:Europe/Paris
BEGIN:VEVENT
UID:118063@l-agenda.ch
DTSTART;TZID=Europe/Paris:20251212T200000
DTEND;TZID=Europe/Paris:20251212T200000
DTSTAMP:20251013T103159Z
URL:https://www.l-agenda.ch/evenements/master-class-maria-callas-une-lecon
 -de-chant-2-2025-12-10-2025-12-12/
SUMMARY:Master class: Maria Callas une leçon de chant
DESCRIPTION:Maria Callas donnait des leçons de chant en 1971 à la Julliar
 d School de New York
ATTACH;FMTTYPE=image/jpeg:https://www.l-agenda.ch/wp-content/uploads/2025/
 09/Master-class.jpg
CATEGORIES:Comédie musicale | Spectacle musical,Documentaire | Documenté
 | Autofiction,Théâtre
LOCATION:PullOff Théâtres\, Rue de l'Industrie 10\, Lausanne\, VD\, 1005\
 , Lausanne\, Suisse
GEO:46.526319;6.639307
X-APPLE-STRUCTURED-LOCATION;VALUE=URI;X-ADDRESS=Rue de l'Industrie 10\, Lau
 sanne\, VD\, 1005\, Lausanne\, Suisse;X-APPLE-RADIUS=100;X-TITLE=PullOff T
 héâtres:geo:46.526319,6.639307
END:VEVENT
BEGIN:VTIMEZONE
TZID:Europe/Paris
X-LIC-LOCATION:Europe/Paris
BEGIN:STANDARD
DTSTART:20251026T020000
TZOFFSETFROM:+0200
TZOFFSETTO:+0100
TZNAME:CET
END:STANDARD
END:VTIMEZONE
END:VCALENDAR