BEGIN:VCALENDAR
VERSION:2.0
PRODID:-//wp-events-plugin.com//7.2.3.1//EN
TZID:Europe/Paris
X-WR-TIMEZONE:Europe/Paris
BEGIN:VEVENT
UID:120591@l-agenda.ch
DTSTART;TZID=Europe/Paris:20260418T213000
DTEND;TZID=Europe/Paris:20260418T213000
DTSTAMP:20260413T123503Z
URL:https://www.l-agenda.ch/evenements/martyn/
SUMMARY:Martyn
DESCRIPTION:Reprises internationales folk\, pop-rock en guitare-voix
ATTACH;FMTTYPE=image/jpeg:https://www.l-agenda.ch/wp-content/uploads/2026/
 04/Martyn.jpg
CATEGORIES:Musique actuelle,16-2026,Pop | Folk | Chanson
LOCATION:Taco's Bar\, Rue du Port-Franc 6\, Lausanne\, VD\, 1003 \, Lausann
 e\, Suisse
X-APPLE-STRUCTURED-LOCATION;VALUE=URI;X-ADDRESS=Rue du Port-Franc 6\, Lausa
 nne\, VD\, 1003 \, Lausanne\, Suisse;X-APPLE-RADIUS=100;X-TITLE=Taco's Bar
 :geo:0,0
END:VEVENT
BEGIN:VTIMEZONE
TZID:Europe/Paris
X-LIC-LOCATION:Europe/Paris
BEGIN:DAYLIGHT
DTSTART:20260329T030000
TZOFFSETFROM:+0100
TZOFFSETTO:+0200
TZNAME:CEST
END:DAYLIGHT
END:VTIMEZONE
END:VCALENDAR