BEGIN:VCALENDAR
VERSION:2.0
PRODID:-//wp-events-plugin.com//7.2.3.1//EN
TZID:Europe/Paris
X-WR-TIMEZONE:Europe/Paris
BEGIN:VEVENT
UID:111492@l-agenda.ch
DTSTART;TZID=Europe/Paris:20250207T203000
DTEND;TZID=Europe/Paris:20250207T203000
DTSTAMP:20241119T090518Z
URL:https://www.l-agenda.ch/evenements/marie-riley-le-bon-soir-2025-02-07/
SUMMARY:Marie Riley - Le Bon Soir
DESCRIPTION:Avec un·e invité·e mystère\, qui devra relever des défis\,
  improviser des sketchs
ATTACH;FMTTYPE=image/jpeg:https://www.l-agenda.ch/wp-content/uploads/2024/
 11/Marie-Riley-Le-Bon-Soir.jpg
CATEGORIES:Improvisation | Humour | Stand-up,Théâtre
LOCATION:Pavillon Naftule\, Place Bellerive\, Lausanne\, VD\, 1007\, Lausan
 ne\, Suisse
GEO:46.511706;6.616739
X-APPLE-STRUCTURED-LOCATION;VALUE=URI;X-ADDRESS=Place Bellerive\, Lausanne\
 , VD\, 1007\, Lausanne\, Suisse;X-APPLE-RADIUS=100;X-TITLE=Pavillon Naftul
 e:geo:46.511706,6.616739
END:VEVENT
BEGIN:VTIMEZONE
TZID:Europe/Paris
X-LIC-LOCATION:Europe/Paris
BEGIN:STANDARD
DTSTART:20241027T020000
TZOFFSETFROM:+0200
TZOFFSETTO:+0100
TZNAME:CET
END:STANDARD
END:VTIMEZONE
END:VCALENDAR