BEGIN:VCALENDAR
VERSION:2.0
PRODID:-//wp-events-plugin.com//7.2.3.1//EN
TZID:Europe/Paris
X-WR-TIMEZONE:Europe/Paris
BEGIN:VEVENT
UID:119335@l-agenda.ch
DTSTART;TZID=Europe/Paris:20260612T190000
DTEND;TZID=Europe/Paris:20260612T190000
DTSTAMP:20260414T145258Z
URL:https://www.l-agenda.ch/evenements/marc-donnet-monay-alouette-2-2025-1
 2-05/
SUMMARY:Marc Donnet-Monay – Alouette
DESCRIPTION:Seul en scène\, stand-up
ATTACH;FMTTYPE=image/jpeg:https://www.l-agenda.ch/wp-content/uploads/2025/
 09/Marc-Donnet-Monay-–-Alouette.webp
CATEGORIES:Festival,Improvisation | Humour | Stand-up,Théâtre
LOCATION:Théâtre de Beausobre\, Avenue de Vertou 2\, Morges\, VD\, 1110\,
  Morges\, Suisse
GEO:46.516566;6.499837
X-APPLE-STRUCTURED-LOCATION;VALUE=URI;X-ADDRESS=Avenue de Vertou 2\, Morges
 \, VD\, 1110\, Morges\, Suisse;X-APPLE-RADIUS=100;X-TITLE=Théâtre de Bea
 usobre:geo:46.516566,6.499837
END:VEVENT
BEGIN:VTIMEZONE
TZID:Europe/Paris
X-LIC-LOCATION:Europe/Paris
BEGIN:DAYLIGHT
DTSTART:20260329T030000
TZOFFSETFROM:+0100
TZOFFSETTO:+0200
TZNAME:CEST
END:DAYLIGHT
END:VTIMEZONE
END:VCALENDAR