BEGIN:VCALENDAR
VERSION:2.0
PRODID:-//wp-events-plugin.com//7.2.3.1//EN
TZID:Europe/Paris
X-WR-TIMEZONE:Europe/Paris
BEGIN:VEVENT
UID:119333@l-agenda.ch
DTSTART;TZID=Europe/Paris:20251216T190000
DTEND;TZID=Europe/Paris:20251216T190000
DTSTAMP:20251204T135532Z
URL:https://www.l-agenda.ch/evenements/marc-donnet-monay-alouette-2-2025-1
 2-04-2025-12-09-2025-12-10-2025-12-11-2025-12-16/
SUMMARY:Marc Donnet-Monay – Alouette
DESCRIPTION:Seul en scène\, stand-up
ATTACH;FMTTYPE=image/jpeg:https://www.l-agenda.ch/wp-content/uploads/2025/
 09/Marc-Donnet-Monay-–-Alouette.webp
CATEGORIES:Improvisation | Humour | Stand-up,Théâtre
LOCATION:Théâtre Boulimie\, Place Arlaud 1\, Lausanne\, VD\, 1003 \, Laus
 anne\, Suisse
GEO:46.522585;6.632014
X-APPLE-STRUCTURED-LOCATION;VALUE=URI;X-ADDRESS=Place Arlaud 1\, Lausanne\,
  VD\, 1003 \, Lausanne\, Suisse;X-APPLE-RADIUS=100;X-TITLE=Théâtre Bouli
 mie:geo:46.522585,6.632014
END:VEVENT
BEGIN:VTIMEZONE
TZID:Europe/Paris
X-LIC-LOCATION:Europe/Paris
BEGIN:STANDARD
DTSTART:20251026T020000
TZOFFSETFROM:+0200
TZOFFSETTO:+0100
TZNAME:CET
END:STANDARD
END:VTIMEZONE
END:VCALENDAR