BEGIN:VCALENDAR
VERSION:2.0
PRODID:-//wp-events-plugin.com//7.2.3.1//EN
TZID:Europe/Paris
X-WR-TIMEZONE:Europe/Paris
BEGIN:VEVENT
UID:115937@l-agenda.ch
DTSTART;TZID=Europe/Paris:20251116T103000
DTEND;TZID=Europe/Paris:20251116T180000
DTSTAMP:20250626T181618Z
URL:https://www.l-agenda.ch/evenements/marathon-schumann/
SUMMARY:Marathon Schumann
DESCRIPTION:Journée de concerts autour de Schumann
ATTACH;FMTTYPE=image/jpeg:https://www.l-agenda.ch/wp-content/uploads/2025/
 06/Schumann.jpg
CATEGORIES:Classique,Opéra | Lyrique | Voix,Orchestre | Ensemble |
 Instrument | Chambre
LOCATION:Le Lyrique\, Bd du Théâtre 12\, Genève\, GE\, 1204 \, Genève\,
  Suisse
X-APPLE-STRUCTURED-LOCATION;VALUE=URI;X-ADDRESS=Bd du Théâtre 12\, Genèv
 e\, GE\, 1204 \, Genève\, Suisse;X-APPLE-RADIUS=100;X-TITLE=Le Lyrique:ge
 o:0,0
END:VEVENT
BEGIN:VTIMEZONE
TZID:Europe/Paris
X-LIC-LOCATION:Europe/Paris
BEGIN:STANDARD
DTSTART:20251026T020000
TZOFFSETFROM:+0200
TZOFFSETTO:+0100
TZNAME:CET
END:STANDARD
END:VTIMEZONE
END:VCALENDAR