BEGIN:VCALENDAR
VERSION:2.0
PRODID:-//wp-events-plugin.com//7.2.3.1//EN
TZID:Europe/Paris
X-WR-TIMEZONE:Europe/Paris
BEGIN:VEVENT
UID:119991@l-agenda.ch
DTSTART;TZID=Europe/Paris:20260211T183000
DTEND;TZID=Europe/Paris:20260211T183000
DTSTAMP:20260209T103625Z
URL:https://www.l-agenda.ch/evenements/maisons-meres-architectures-utopiqu
 es-et-concretes-2/
SUMMARY:Vernissage de l'expo "Maisons-mères"
DESCRIPTION:Architectures utopiques
ATTACH;FMTTYPE=image/jpeg:https://www.l-agenda.ch/wp-content/uploads/2026/
 01/Maisons-meres.jpg
CATEGORIES:Exposition temporaire,Vernissage
LOCATION:La Ferme des Tilleuls\, Rue de Lausanne 52\, Renens\, VD\, 1020\, 
 Ouest lausannois\, Suisse
GEO:46.533738;6.589875
X-APPLE-STRUCTURED-LOCATION;VALUE=URI;X-ADDRESS=Rue de Lausanne 52\, Renens
 \, VD\, 1020\, Ouest lausannois\, Suisse;X-APPLE-RADIUS=100;X-TITLE=La Fer
 me des Tilleuls:geo:46.533738,6.589875
END:VEVENT
BEGIN:VTIMEZONE
TZID:Europe/Paris
X-LIC-LOCATION:Europe/Paris
BEGIN:STANDARD
DTSTART:20251026T020000
TZOFFSETFROM:+0200
TZOFFSETTO:+0100
TZNAME:CET
END:STANDARD
END:VTIMEZONE
END:VCALENDAR