BEGIN:VCALENDAR
VERSION:2.0
PRODID:-//wp-events-plugin.com//7.2.3.1//EN
TZID:Europe/Paris
X-WR-TIMEZONE:Europe/Paris
BEGIN:VEVENT
UID:115009@l-agenda.ch
DTSTART;TZID=Europe/Paris:20250530T191500
DTEND;TZID=Europe/Paris:20250530T191500
DTSTAMP:20250325T110010Z
URL:https://www.l-agenda.ch/evenements/mai-au-parc-3-2025-05-30/
SUMMARY:Mai au Parc
DESCRIPTION:Musiques actuelles
CATEGORIES:Festival,Musique actuelle
LOCATION:Parc Bernasconi\, via Chemin des Vignes\, Grand-Lancy\, GE\, 1212\
 , Suisse
GEO:46.18811;6.12263
X-APPLE-STRUCTURED-LOCATION;VALUE=URI;X-ADDRESS=via Chemin des Vignes\, Gra
 nd-Lancy\, GE\, 1212\, Suisse;X-APPLE-RADIUS=100;X-TITLE=Parc Bernasconi:g
 eo:46.18811,6.12263
END:VEVENT
BEGIN:VTIMEZONE
TZID:Europe/Paris
X-LIC-LOCATION:Europe/Paris
BEGIN:DAYLIGHT
DTSTART:20250330T030000
TZOFFSETFROM:+0100
TZOFFSETTO:+0200
TZNAME:CEST
END:DAYLIGHT
END:VTIMEZONE
END:VCALENDAR