BEGIN:VCALENDAR
VERSION:2.0
PRODID:-//wp-events-plugin.com//7.2.3.1//EN
TZID:Europe/Paris
X-WR-TIMEZONE:Europe/Paris
BEGIN:VEVENT
UID:116787@l-agenda.ch
DTSTART;TZID=Europe/Paris:20250917T203000
DTEND;TZID=Europe/Paris:20250917T203000
DTSTAMP:20250822T161008Z
URL:https://www.l-agenda.ch/evenements/mae/
SUMMARY:Mae
DESCRIPTION:Pop urbaine\, influences RnB
ATTACH;FMTTYPE=image/jpeg:https://www.l-agenda.ch/wp-content/uploads/2025/
 08/MAE.webp
CATEGORIES:Musique actuelle,Pop | Folk | Chanson
LOCATION:Millennium\, Chemin de Mongevon 25\, Lausanne - Crissier\, VD\, 10
 23\, Lausanne\, Suisse
GEO:46.549717;6.569938
X-APPLE-STRUCTURED-LOCATION;VALUE=URI;X-ADDRESS=Chemin de Mongevon 25\, Lau
 sanne - Crissier\, VD\, 1023\, Lausanne\, Suisse;X-APPLE-RADIUS=100;X-TITL
 E=Millennium:geo:46.549717,6.569938
END:VEVENT
BEGIN:VTIMEZONE
TZID:Europe/Paris
X-LIC-LOCATION:Europe/Paris
BEGIN:DAYLIGHT
DTSTART:20250330T030000
TZOFFSETFROM:+0100
TZOFFSETTO:+0200
TZNAME:CEST
END:DAYLIGHT
END:VTIMEZONE
END:VCALENDAR