BEGIN:VCALENDAR
VERSION:2.0
PRODID:-//wp-events-plugin.com//7.2.3.1//EN
TZID:Europe/Paris
X-WR-TIMEZONE:Europe/Paris
BEGIN:VEVENT
UID:119048@l-agenda.ch
DTSTART;TZID=Europe/Paris:20260423T193000
DTEND;TZID=Europe/Paris:20260423T193000
DTSTAMP:20260421T144137Z
URL:https://www.l-agenda.ch/evenements/madame-butterfly-2026-04-23/
SUMMARY:Madame Butterfly
DESCRIPTION:Opéra de Puccini\n
ATTACH;FMTTYPE=image/jpeg:https://www.l-agenda.ch/wp-content/uploads/2025/
 11/Madame-Butterfly.jpg
CATEGORIES:17-2026,Classique,Opéra | Lyrique | Voix,Orchestre | Ensemble
 | Instrument | Chambre
LOCATION:Grand Théâtre de Genève\, Boulevard du Théâtre 11\, Genève\,
  GE\, 1211\, Genève\, Suisse
GEO:46.201801;6.142647
X-APPLE-STRUCTURED-LOCATION;VALUE=URI;X-ADDRESS=Boulevard du Théâtre 11\,
  Genève\, GE\, 1211\, Genève\, Suisse;X-APPLE-RADIUS=100;X-TITLE=Grand T
 héâtre de Genève:geo:46.201801,6.142647
END:VEVENT
BEGIN:VTIMEZONE
TZID:Europe/Paris
X-LIC-LOCATION:Europe/Paris
BEGIN:DAYLIGHT
DTSTART:20260329T030000
TZOFFSETFROM:+0100
TZOFFSETTO:+0200
TZNAME:CEST
END:DAYLIGHT
END:VTIMEZONE
END:VCALENDAR