BEGIN:VCALENDAR
VERSION:2.0
PRODID:-//wp-events-plugin.com//7.2.3.1//EN
TZID:Europe/Paris
X-WR-TIMEZONE:Europe/Paris
BEGIN:VEVENT
UID:119518@l-agenda.ch
DTSTART;TZID=Europe/Paris:20260301T110000
DTEND;TZID=Europe/Paris:20260301T110000
DTSTAMP:20251223T160208Z
URL:https://www.l-agenda.ch/evenements/ma-grand-mere-est-une-aventuriere-2
 026-03-01/
SUMMARY:Ma grand-mère est une aventurière
DESCRIPTION:Spectacle musical\, marionnettes\, album pop-up géant et thé
 âtre d’ombres\, dès 6 ans
ATTACH;FMTTYPE=image/jpeg:https://www.l-agenda.ch/wp-content/uploads/2025/
 12/Ma-grand-mere-est-une-aventuriere.jpg
CATEGORIES:Comédie musicale | Spectacle musical,Jeune
 public,Marionnettes,Théâtre
LOCATION:Aulà du Collège de l'Union\, Chemin de l'union 1\, Prilly\, VD\,
  1008\, Ouest lausannois\, Suisse
GEO:46.536442;6.60795
X-APPLE-STRUCTURED-LOCATION;VALUE=URI;X-ADDRESS=Chemin de l'union 1\, Prill
 y\, VD\, 1008\, Ouest lausannois\, Suisse;X-APPLE-RADIUS=100;X-TITLE=Aulà
  du Collège de l'Union:geo:46.536442,6.60795
END:VEVENT
BEGIN:VTIMEZONE
TZID:Europe/Paris
X-LIC-LOCATION:Europe/Paris
BEGIN:STANDARD
DTSTART:20251026T020000
TZOFFSETFROM:+0200
TZOFFSETTO:+0100
TZNAME:CET
END:STANDARD
END:VTIMEZONE
END:VCALENDAR