BEGIN:VCALENDAR
VERSION:2.0
PRODID:-//wp-events-plugin.com//7.2.3.1//EN
TZID:Europe/Paris
X-WR-TIMEZONE:Europe/Paris
BEGIN:VEVENT
UID:120554@l-agenda.ch
DTSTART;TZID=Europe/Paris:20260530T110000
DTEND;TZID=Europe/Paris:20260530T110000
DTSTAMP:20260330T093916Z
URL:https://www.l-agenda.ch/evenements/m-re-et-mlle-mib/
SUMMARY:M. Ré# et Mlle Mib
DESCRIPTION:Conte fantastique de Jules Verne\, dès 4 ans
ATTACH;FMTTYPE=image/jpeg:https://www.l-agenda.ch/wp-content/uploads/2026/
 03/M.-Re-diese-et-Mlle-mi-bemol.jpg
CATEGORIES:Orchestre | Ensemble | Instrument | Chambre,Comédie musicale |
 Spectacle musical,Jeune public
LOCATION:Temple Saint-Paul\, Place du Temple\, Villeneuve\, VD\, 1844\, Aig
 le\, Suisse
GEO:46.396373;6.925017
X-APPLE-STRUCTURED-LOCATION;VALUE=URI;X-ADDRESS=Place du Temple\, Villeneuv
 e\, VD\, 1844\, Aigle\, Suisse;X-APPLE-RADIUS=100;X-TITLE=Temple Saint-Pau
 l:geo:46.396373,6.925017
END:VEVENT
BEGIN:VTIMEZONE
TZID:Europe/Paris
X-LIC-LOCATION:Europe/Paris
BEGIN:DAYLIGHT
DTSTART:20260329T030000
TZOFFSETFROM:+0100
TZOFFSETTO:+0200
TZNAME:CEST
END:DAYLIGHT
END:VTIMEZONE
END:VCALENDAR