BEGIN:VCALENDAR
VERSION:2.0
PRODID:-//wp-events-plugin.com//7.2.3.1//EN
TZID:Europe/Paris
X-WR-TIMEZONE:Europe/Paris
BEGIN:VEVENT
UID:120589@l-agenda.ch
DTSTART;TZID=Europe/Paris:20260906T180000
DTEND;TZID=Europe/Paris:20260906T180000
DTSTAMP:20260413T094645Z
URL:https://www.l-agenda.ch/evenements/lucy-thomas/
SUMMARY:Lucy Thomas
DESCRIPTION:Crossover classique\, pop et comédie musicale
ATTACH;FMTTYPE=image/jpeg:https://www.l-agenda.ch/wp-content/uploads/2026/
 04/Lucy-Thomas.jpg
CATEGORIES:Opéra | Lyrique | Voix,Musique actuelle,Pop | Folk | Chanson
LOCATION:Victoria Hall\, Rue Général-Dufour 14\, Genève\, GE\, 1204\, Ge
 nève\, Suisse
GEO:46.201402;6.141062
X-APPLE-STRUCTURED-LOCATION;VALUE=URI;X-ADDRESS=Rue Général-Dufour 14\, G
 enève\, GE\, 1204\, Genève\, Suisse;X-APPLE-RADIUS=100;X-TITLE=Victoria 
 Hall:geo:46.201402,6.141062
END:VEVENT
BEGIN:VTIMEZONE
TZID:Europe/Paris
X-LIC-LOCATION:Europe/Paris
BEGIN:DAYLIGHT
DTSTART:20260329T030000
TZOFFSETFROM:+0100
TZOFFSETTO:+0200
TZNAME:CEST
END:DAYLIGHT
END:VTIMEZONE
END:VCALENDAR