BEGIN:VCALENDAR
VERSION:2.0
PRODID:-//wp-events-plugin.com//7.2.3.1//EN
TZID:Europe/Paris
X-WR-TIMEZONE:Europe/Paris
BEGIN:VEVENT
UID:103717@l-agenda.ch
DTSTART;TZID=Europe/Paris:20240417T160000
DTEND;TZID=Europe/Paris:20240417T160000
DTSTAMP:20240110T163058Z
URL:https://www.l-agenda.ch/evenements/louhoup/
SUMMARY:Lou(h)oup
DESCRIPTION:Théâtre de papier\, dès 1 an
ATTACH;FMTTYPE=image/jpeg:https://www.l-agenda.ch/wp-content/uploads/2024/
 01/4318-2lapins.jpg.webp
CATEGORIES:Jeune public
LOCATION:Galerie de la Champagne\, Rue de Bernex 313\, Bernex\, GE\, 1233\,
  Genève\, Suisse
X-APPLE-STRUCTURED-LOCATION;VALUE=URI;X-ADDRESS=Rue de Bernex 313\, Bernex\
 , GE\, 1233\, Genève\, Suisse;X-APPLE-RADIUS=100;X-TITLE=Galerie de la Ch
 ampagne:geo:0,0
END:VEVENT
BEGIN:VTIMEZONE
TZID:Europe/Paris
X-LIC-LOCATION:Europe/Paris
BEGIN:DAYLIGHT
DTSTART:20240331T030000
TZOFFSETFROM:+0100
TZOFFSETTO:+0200
TZNAME:CEST
END:DAYLIGHT
END:VTIMEZONE
END:VCALENDAR