BEGIN:VCALENDAR
VERSION:2.0
PRODID:-//wp-events-plugin.com//7.2.3.1//EN
TZID:Europe/Paris
X-WR-TIMEZONE:Europe/Paris
BEGIN:VEVENT
UID:115936@l-agenda.ch
DTSTART;TZID=Europe/Paris:20251030T200000
DTEND;TZID=Europe/Paris:20251030T200000
DTSTAMP:20250626T180807Z
URL:https://www.l-agenda.ch/evenements/locg-et-sayaka-shoji-violon-2/
SUMMARY:L'OCG et Sayaka Shoji\, violon
DESCRIPTION:Dutilleux et Berlioz
ATTACH;FMTTYPE=image/jpeg:https://www.l-agenda.ch/wp-content/uploads/2025/
 06/Sayaka-Shoji.jpg
CATEGORIES:Classique,Orchestre | Ensemble | Instrument | Chambre
LOCATION:Bâtiment des Forces Motrices\, Place des Volontaires 2\, Genève\
 , GE\, 1204\, Genève\, Suisse
GEO:46.204654;6.137087
X-APPLE-STRUCTURED-LOCATION;VALUE=URI;X-ADDRESS=Place des Volontaires 2\, G
 enève\, GE\, 1204\, Genève\, Suisse;X-APPLE-RADIUS=100;X-TITLE=Bâtiment
  des Forces Motrices:geo:46.204654,6.137087
END:VEVENT
BEGIN:VTIMEZONE
TZID:Europe/Paris
X-LIC-LOCATION:Europe/Paris
BEGIN:STANDARD
DTSTART:20251026T020000
TZOFFSETFROM:+0200
TZOFFSETTO:+0100
TZNAME:CET
END:STANDARD
END:VTIMEZONE
END:VCALENDAR