BEGIN:VCALENDAR
VERSION:2.0
PRODID:-//wp-events-plugin.com//7.2.3.1//EN
TZID:Europe/Paris
X-WR-TIMEZONE:Europe/Paris
BEGIN:VEVENT
UID:80566@l-agenda.ch
DTSTART;TZID=Europe/Paris:20220823T090000
DTEND;TZID=Europe/Paris:20220827T210000
DTSTAMP:20220604T102617Z
URL:https://www.l-agenda.ch/event-recurring/lire-a-lausanne/
SUMMARY:Lire à Lausanne
DESCRIPTION:La rentrée des éditions et auteur·e·s lausannois·es
ATTACH;FMTTYPE=image/jpeg:https://www.l-agenda.ch/wp-content/uploads/2022/
 06/Lire-a-Lausanne.jpg
CATEGORIES:Conférence | Rencontre,Littérature | Conte | Lecture
LOCATION:Forum de l'Hôtel de Ville\, Place de la Palud 2\, Lausanne\, VD\,
  1003\, Lausanne\, Suisse
GEO:46.52182;6.632665
X-APPLE-STRUCTURED-LOCATION;VALUE=URI;X-ADDRESS=Place de la Palud 2\, Lausa
 nne\, VD\, 1003\, Lausanne\, Suisse;X-APPLE-RADIUS=100;X-TITLE=Forum de l'
 Hôtel de Ville:geo:46.52182,6.632665
END:VEVENT
BEGIN:VTIMEZONE
TZID:Europe/Paris
X-LIC-LOCATION:Europe/Paris
BEGIN:DAYLIGHT
DTSTART:20220327T030000
TZOFFSETFROM:+0100
TZOFFSETTO:+0200
TZNAME:CEST
END:DAYLIGHT
END:VTIMEZONE
END:VCALENDAR