BEGIN:VCALENDAR
VERSION:2.0
PRODID:-//wp-events-plugin.com//7.2.3.1//EN
TZID:Europe/Paris
X-WR-TIMEZONE:Europe/Paris
BEGIN:VEVENT
UID:119426@l-agenda.ch
DTSTART;TZID=Europe/Paris:20260312T200000
DTEND;TZID=Europe/Paris:20260312T200000
DTSTAMP:20251209T132856Z
URL:https://www.l-agenda.ch/evenements/lionel-dellberg-humain-magique-2/
SUMMARY:Lionel Dellberg - Humain magique
DESCRIPTION:Spectacle de magie basé sur le postulat: la magie est en chacu
 n-e de nous
ATTACH;FMTTYPE=image/jpeg:https://www.l-agenda.ch/wp-content/uploads/2025/
 02/Lionel.webp
CATEGORIES:Cirque,Jeune public,Performance | Expérimental
LOCATION:Salle des spectacles Epalinges\, Route de la Croix-Blanche 27\, Ep
 alinges\, VD\, 1066\, Lausanne\, Suisse
GEO:46.548307;6.671554
X-APPLE-STRUCTURED-LOCATION;VALUE=URI;X-ADDRESS=Route de la Croix-Blanche 2
 7\, Epalinges\, VD\, 1066\, Lausanne\, Suisse;X-APPLE-RADIUS=100;X-TITLE=S
 alle des spectacles Epalinges:geo:46.548307,6.671554
END:VEVENT
BEGIN:VTIMEZONE
TZID:Europe/Paris
X-LIC-LOCATION:Europe/Paris
BEGIN:STANDARD
DTSTART:20251026T020000
TZOFFSETFROM:+0200
TZOFFSETTO:+0100
TZNAME:CET
END:STANDARD
END:VTIMEZONE
END:VCALENDAR