BEGIN:VCALENDAR
VERSION:2.0
PRODID:-//wp-events-plugin.com//7.2.3.1//EN
TZID:Europe/Paris
X-WR-TIMEZONE:Europe/Paris
BEGIN:VEVENT
UID:85575@l-agenda.ch
DTSTART;TZID=Europe/Paris:20221209T180000
DTEND;TZID=Europe/Paris:20221211T180000
DTSTAMP:20220928T195828Z
URL:https://www.l-agenda.ch/event-recurring/lion-ascendant-canard/
SUMMARY:Lion ascendant Canard
DESCRIPTION:Incursion dans le monde de l'autisme 
CATEGORIES:Théâtre
LOCATION:Théâtre Le Reflet – Vevey\, Rue du Théâtre 4\, Vevey\, VD\, 
 1800\, Riviera\, Suisse
GEO:46.460499;6.843113
X-APPLE-STRUCTURED-LOCATION;VALUE=URI;X-ADDRESS=Rue du Théâtre 4\, Vevey\
 , VD\, 1800\, Riviera\, Suisse;X-APPLE-RADIUS=100;X-TITLE=Théâtre Le Ref
 let – Vevey:geo:46.460499,6.843113
END:VEVENT
BEGIN:VTIMEZONE
TZID:Europe/Paris
X-LIC-LOCATION:Europe/Paris
BEGIN:STANDARD
DTSTART:20221030T020000
TZOFFSETFROM:+0200
TZOFFSETTO:+0100
TZNAME:CET
END:STANDARD
END:VTIMEZONE
END:VCALENDAR