BEGIN:VCALENDAR
VERSION:2.0
PRODID:-//wp-events-plugin.com//7.2.3.1//EN
TZID:Europe/Paris
X-WR-TIMEZONE:Europe/Paris
BEGIN:VEVENT
UID:108913@l-agenda.ch
DTSTART;TZID=Europe/Paris:20241213T200000
DTEND;TZID=Europe/Paris:20241213T200000
DTSTAMP:20241211T110930Z
URL:https://www.l-agenda.ch/evenements/liane-foly-la-folle-repart-en-these
 /
SUMMARY:ANNULÉ - Liane Foly - La folle repart en thèse
DESCRIPTION:One woman show retraçant son parcours d’artiste et de femme
ATTACH;FMTTYPE=image/jpeg:https://www.l-agenda.ch/wp-content/uploads/2024/
 08/Liane-Foly.jpg
CATEGORIES:Théâtre,Improvisation | Humour | Stand-up
LOCATION:Salle des spectacles Epalinges\, Route de la Croix-Blanche 27\, Ep
 alinges\, VD\, 1066\, Lausanne\, Suisse
GEO:46.548307;6.671554
X-APPLE-STRUCTURED-LOCATION;VALUE=URI;X-ADDRESS=Route de la Croix-Blanche 2
 7\, Epalinges\, VD\, 1066\, Lausanne\, Suisse;X-APPLE-RADIUS=100;X-TITLE=S
 alle des spectacles Epalinges:geo:46.548307,6.671554
END:VEVENT
BEGIN:VTIMEZONE
TZID:Europe/Paris
X-LIC-LOCATION:Europe/Paris
BEGIN:STANDARD
DTSTART:20241027T020000
TZOFFSETFROM:+0200
TZOFFSETTO:+0100
TZNAME:CET
END:STANDARD
END:VTIMEZONE
END:VCALENDAR