BEGIN:VCALENDAR
VERSION:2.0
PRODID:-//wp-events-plugin.com//7.2.3.1//EN
TZID:Europe/Paris
X-WR-TIMEZONE:Europe/Paris
BEGIN:VEVENT
UID:110415@l-agenda.ch
DTSTART;TZID=Europe/Paris:20241103T170000
DTEND;TZID=Europe/Paris:20241104T170000
DTSTAMP:20241020T131828Z
URL:https://www.l-agenda.ch/event-recurring/les-vocalistes-romands/
SUMMARY:Les Vocalistes Romands
DESCRIPTION:Oeuvres d'Anton Bruckner
ATTACH;FMTTYPE=image/jpeg:https://www.l-agenda.ch/wp-content/uploads/2024/
 10/Les-vocalistes-romands.webp
CATEGORIES:Classique,Opéra | Lyrique | Voix,Orchestre | Ensemble |
 Instrument | Chambre
LOCATION:Église St-Martin\, Rue des Communaux 10\, Vevey\, VD\, 1800\, Riv
 iera\, Suisse
GEO:46.461728;6.846079
X-APPLE-STRUCTURED-LOCATION;VALUE=URI;X-ADDRESS=Rue des Communaux 10\, Veve
 y\, VD\, 1800\, Riviera\, Suisse;X-APPLE-RADIUS=100;X-TITLE=Église St-Mar
 tin:geo:46.461728,6.846079
END:VEVENT
BEGIN:VTIMEZONE
TZID:Europe/Paris
X-LIC-LOCATION:Europe/Paris
BEGIN:STANDARD
DTSTART:20241027T020000
TZOFFSETFROM:+0200
TZOFFSETTO:+0100
TZNAME:CET
END:STANDARD
END:VTIMEZONE
END:VCALENDAR